BEGIN:VCALENDAR
VERSION:2.0
PRODID:-//pretix//pretix.eu//
BEGIN:VEVENT
UID:pretix-devtalpassport-Passport-0@passports.devtal.de
DTSTART;VALUE=DATE:20211227
DTEND;VALUE=DATE:20220116
DESCRIPTION:Tickets: https://passports.devtal.de/\nVeranstalter: /dev/tal e
 .V.
DTSTAMP:20260424T123121Z
LOCATION:Milchstrasse // Erde // rC3_2021
SUMMARY:Hackerspace Passport
END:VEVENT
END:VCALENDAR
